BEGIN:VCALENDAR
PRODID:-//Det Danske Spejderkorps//NONSGML Gruppeweb//EN
VERSION:2.0
CALSCALE:GREGORIAN
X-PUBLISHED-TTL:PT1H
X-WR-CALNAME:Special Forces
METHOD:PUBLISH
BEGIN:VEVENT
UID:gruppeweb.dk:1406:event:1983
DTSTAMP:20260420T051042Z
LAST-MODIFIED:20250515T072239Z
SUMMARY:Bytte-grej/loppe-dag
DESCRIPTION:\n
URL:https://www.1helsingor.dk/begivenhed/bytte-grejloppe-dag
DTSTART:20250518T090000Z
DTEND:20250518T120000Z
LOCATION:
END:VEVENT
BEGIN:VEVENT
UID:gruppeweb.dk:1406:event:2217
DTSTAMP:20260420T051042Z
LAST-MODIFIED:20250421T201934Z
SUMMARY:Sct Georgs Dag for 1. Helsingør
DESCRIPTION:Sct. Georgs Dag    \n\n
URL:https://www.1helsingor.dk/begivenhed/sct-georgs-dag-1-helsingoer
DTSTART:20250426T080000Z
DTEND:20250426T100000Z
LOCATION:Gurredam Spejdercenter\, Gurrevej 322\, 3000 Helsingør
END:VEVENT
BEGIN:VEVENT
UID:gruppeweb.dk:1406:event:2289
DTSTAMP:20260420T051042Z
LAST-MODIFIED:20250724T104030Z
SUMMARY:Opryknings dag 2025
DESCRIPTION:Årets gruppedag for hele 1.Helsingør og pårørende\n\n\nVi s
 kal have det sjovt med oprykninger og årsstjerner\, sige hej til nye  \ns
 pejdervenner og have glædelige gensyn med gamle.\n\nHusk tøj efter vejre
 t\, madpakke og drikkedunk. \n\n
URL:https://www.1helsingor.dk/begivenhed/opryknings-dag-2025
DTSTART:20250824T073000Z
DTEND:20250824T120000Z
LOCATION:Spejdercentret Gurredam\, Gurrevej 322\, 3000 Helsingør
END:VEVENT
BEGIN:VEVENT
UID:gruppeweb.dk:1406:event:2464
DTSTAMP:20260420T051042Z
LAST-MODIFIED:20251118T110316Z
SUMMARY:Logotøj - Vinter 2025
DESCRIPTION:\n
URL:https://www.1helsingor.dk/begivenhed/logotoej-vinter-2025
DTSTART;VALUE=DATE:20251124
LOCATION:
END:VEVENT
BEGIN:VEVENT
UID:gruppeweb.dk:1406:event:2473
DTSTAMP:20260420T051042Z
LAST-MODIFIED:20260221T164040Z
SUMMARY:Logotøj - Forår 2026
DESCRIPTION:\n
URL:https://www.1helsingor.dk/begivenhed/logotoej-foraar-2026
DTSTART;VALUE=DATE:20260227
LOCATION:
END:VEVENT
BEGIN:VEVENT
UID:gruppeweb.dk:1406:event:2488
DTSTAMP:20260420T051042Z
LAST-MODIFIED:20260104T142727Z
SUMMARY:Forældremøde vedrørende Spejdernes Lejr 2026
DESCRIPTION:Forældremøde med information om Spejdernes Lejr 2026\n\n\nkl.
  18:00-18:45: Information til Familiespejd\n\nkl. 19:00-19:45: Fælles-inf
 ormation til alle grene\n\nkl. 19:45-20:45: Information i grenene for Mikr
 o\, Mini\, Junior og Trop inkl.  \nKlan\n\n
URL:https://www.1helsingor.dk/begivenhed/foraeldremoede-vedroerende-spejder
 nes-lejr-2026
DTSTART:20260115T170000Z
DTEND:20260115T194500Z
LOCATION:
END:VEVENT
BEGIN:VEVENT
UID:gruppeweb.dk:1406:event:2542
DTSTAMP:20260420T051042Z
LAST-MODIFIED:20260225T181348Z
SUMMARY:Spejdernes Lejr 2026
DESCRIPTION:Så er det snart vi skal tilmelde os Spejdernes Lejr. \n\nDelt
 agerpris for 1/2 lejr er 1.300 (onsdag 22/7-søndag 26/7) og for hel lejr 
  \n2.000 (lørdag 18/7 - søndag 26/7). For at opnå denne pris\, skal til
 melding  \nske senest 15. februar 2026. Eftertilmelding medfører øget pr
 is på  \nSpejdernes Lejr.  \n\nVed tilmelding betales 1. rate af deltag
 erbetalingen. Efterfølgende udsendes  \nfaktura på 2. rate\, der skal be
 tales senest 20. april 2026. \n\n
URL:https://www.1helsingor.dk/begivenhed/spejdernes-lejr-2026
DTSTART;VALUE=DATE:20260726
LOCATION:Hedeland Naturpark
END:VEVENT
BEGIN:VEVENT
UID:gruppeweb.dk:1406:event:2543
DTSTAMP:20260420T051042Z
LAST-MODIFIED:20260213T124755Z
SUMMARY:Vinterweekend 2026
DESCRIPTION:Årets hyggeligste vinterweekend. Vi skal både holde gruppens 
 fødselsdag\,  \ngrupperådsmøde og tænkedag\n\nEn sjov weekend for alle
  spejdere i 1. Helsingør og deres pårørende/  \nforældre. Søskende er
  også velkomne!\n\nVi overnatter indendørs på Hellebækskolen.\n\nOpdat
 eret program:\n\n>*Fredag d. 20/2*/kl. 17 ankomst og indkvartering//kl. 18
  aftensmad//kl.  \n>19.30 tænkedag/-Om aftenen holder vi lejrbålshygge f
 or ledere og  \n>forældre. Øl/vand kan købes\, men medbring selv eventu
 el fredagssnolder\n>*Lørdag d. 21/2*/kl. 8.00 morgenmad//kl. 9.30 Grupper
 ådsmøde og filmhygge  \n>for spejderne//kl. 11-14 Det store fødselsdags
 løb (inkl. frokost)//kl. 14  \n>Uddeling af mærker og tak for nu!/\n>Gru
 pperådsmødet (generalforsamlingen) afholdes lørdag formiddag. Har du  \
 n>forslag til grupperådet\, kan du skrive til formanden  \n>på formand@
 1helsingor.dk [1] Forslag skal være formanden i hænde senest  \n>7. feb
 ruar 2026.Dagsorden\, regnskab\, budget\, forslag og øvrige materialer  \
 n>til mødet ligger klar på vores hjemmeside.\n\n\n[1] mailto:formand@1he
 lsingor.dk\n
URL:https://www.1helsingor.dk/begivenhed/vinterweekend-2026
DTSTART:20260220T160000Z
DTEND:20260221T130000Z
LOCATION:Hellebækskolen\, Skåningevej 11\, 3140 Ålsgårde
END:VEVENT
BEGIN:VEVENT
UID:gruppeweb.dk:1406:event:2615
DTSTAMP:20260420T051042Z
LAST-MODIFIED:20260324T100859Z
SUMMARY:Logotøj - forår/sommer 2026
DESCRIPTION:\n
URL:https://www.1helsingor.dk/begivenhed/logotoej-foraarsommer-2026
DTSTART:20260520T215900Z
DTEND:20260520T215900Z
LOCATION:
END:VEVENT
BEGIN:VEVENT
UID:gruppeweb.dk:1406:event:2617
DTSTAMP:20260420T051042Z
LAST-MODIFIED:20260328T142416Z
SUMMARY:Gruppedag
DESCRIPTION:Nærmere info om tid kommer\n\n
URL:https://www.1helsingor.dk/begivenhed/gruppedag
DTSTART;VALUE=DATE:20260822
LOCATION:Gurredam Spejdercenter\, Gurrevej 322\, 3000 Helsingør
END:VEVENT
BEGIN:VEVENT
UID:gruppeweb.dk:1406:event:2623
DTSTAMP:20260420T051042Z
LAST-MODIFIED:20260413T202903Z
SUMMARY:Sct. Georgs Dag for 1. Helsingør 2026
DESCRIPTION:Sct. Georgs Dag - fælles for hele 1. Helsingør - afholdes på
  Gurredam.\nHusk madpakke :)\n\n
URL:https://www.1helsingor.dk/begivenhed/sct-georgs-dag-1-helsingoer-2026
DTSTART:20260426T080000Z
DTEND:20260426T120000Z
LOCATION:Gurredam Spejdercenter\, Gurrevej 322\, 3000 Helsingør
END:VEVENT
BEGIN:VEVENT
UID:gruppeweb.dk:1406:event:2069
DTSTAMP:20260420T051042Z
LAST-MODIFIED:20240911T075219Z
SUMMARY:Special forces møde
DESCRIPTION:Vi mødes ved Indgangsportalen ved P-pladsen.\n\n
URL:https://www.1helsingor.dk/begivenhed/special-forces-moede-3
DTSTART:20250622T080000Z
DTEND:20250622T100000Z
LOCATION:Gurredam Spejdercenter\, Gurrevej 322\, 3000 Helsingør
END:VEVENT
BEGIN:VEVENT
UID:gruppeweb.dk:1406:event:2070
DTSTAMP:20260420T051042Z
LAST-MODIFIED:20240911T075219Z
SUMMARY:Special forces møde
DESCRIPTION:Vi mødes ved Indgangsportalen ved P-pladsen.\n\n
URL:https://www.1helsingor.dk/begivenhed/special-forces-moede-4
DTSTART:20250608T080000Z
DTEND:20250608T100000Z
LOCATION:Gurredam Spejdercenter\, Gurrevej 322\, 3000 Helsingør
END:VEVENT
BEGIN:VEVENT
UID:gruppeweb.dk:1406:event:2072
DTSTAMP:20260420T051042Z
LAST-MODIFIED:20240911T075219Z
SUMMARY:Special forces møde
DESCRIPTION:Vi mødes ved Indgangsportalen ved P-pladsen.\n\n
URL:https://www.1helsingor.dk/begivenhed/special-forces-moede-6
DTSTART:20250511T080000Z
DTEND:20250511T100000Z
LOCATION:Gurredam Spejdercenter\, Gurrevej 322\, 3000 Helsingør
END:VEVENT
BEGIN:VEVENT
UID:gruppeweb.dk:1406:event:2073
DTSTAMP:20260420T051042Z
LAST-MODIFIED:20240911T075219Z
SUMMARY:Special forces møde
DESCRIPTION:Vi mødes ved Indgangsportalen ved P-pladsen.\n\n
URL:https://www.1helsingor.dk/begivenhed/special-forces-moede-7
DTSTART:20250427T080000Z
DTEND:20250427T100000Z
LOCATION:Gurredam Spejdercenter\, Gurrevej 322\, 3000 Helsingør
END:VEVENT
BEGIN:VEVENT
UID:gruppeweb.dk:1406:event:2280
DTSTAMP:20260420T051042Z
LAST-MODIFIED:20250519T072227Z
SUMMARY:Special Forces - Overnatning
DESCRIPTION:Vi skal lave aftensmad sammen\, hygge ved bålet og sove i shel
 ter. \n\n(Det er også helt ok hvis man ikke bliver og overnatter - kom o
 g være med  \nså meget i har lyst til)\n\n
URL:https://www.1helsingor.dk/begivenhed/special-forces-overnatning
DTSTART:20250523T000000Z
DTEND:20250524T070000Z
LOCATION:1. Helsingør Gruppe\, Stubbedamsvej 70C\, 3000 Helsingør
END:VEVENT
BEGIN:VEVENT
UID:gruppeweb.dk:1406:event:2406
DTSTAMP:20260420T051042Z
LAST-MODIFIED:20251006T190130Z
SUMMARY:Special forces møde
DESCRIPTION:\n
URL:https://www.1helsingor.dk/begivenhed/special-forces-moede-5
DTSTART:20251011T080000Z
DTEND:20251011T100000Z
LOCATION:Gurredam Spejdercenter\, Gurrevej 322\, 3000 Helsingør
END:VEVENT
BEGIN:VEVENT
UID:gruppeweb.dk:1406:event:2407
DTSTAMP:20260420T051042Z
LAST-MODIFIED:20250828T113947Z
SUMMARY:Special forces møde
DESCRIPTION:Første møde efter sommerferien :o)\n\nVi mødes ved indgangsp
 ortalen på P-pladsen\n\n
URL:https://www.1helsingor.dk/begivenhed/special-forces-moede-20
DTSTART:20250831T080000Z
DTEND:20250831T100000Z
LOCATION:Gurredam Spejdercenter\, Gurrevej 322\, 3000 Helsingør
END:VEVENT
BEGIN:VEVENT
UID:gruppeweb.dk:1406:event:2408
DTSTAMP:20260420T051042Z
LAST-MODIFIED:20250828T113948Z
SUMMARY:Special forces møde
DESCRIPTION:\n
URL:https://www.1helsingor.dk/begivenhed/special-forces-moede-21
DTSTART:20250928T080000Z
DTEND:20250928T100000Z
LOCATION:Gurredam Spejdercenter\, Gurrevej 322\, 3000 Helsingør
END:VEVENT
BEGIN:VEVENT
UID:gruppeweb.dk:1406:event:2409
DTSTAMP:20260420T051042Z
LAST-MODIFIED:20250828T113948Z
SUMMARY:Special forces møde
DESCRIPTION:\n
URL:https://www.1helsingor.dk/begivenhed/special-forces-moede-22
DTSTART:20250914T080000Z
DTEND:20250914T100000Z
LOCATION:Gurredam Spejdercenter\, Gurrevej 322\, 3000 Helsingør
END:VEVENT
BEGIN:VEVENT
UID:gruppeweb.dk:1406:event:2452
DTSTAMP:20260420T051042Z
LAST-MODIFIED:20251006T192123Z
SUMMARY:Special forces møde
DESCRIPTION:\n
URL:https://www.1helsingor.dk/begivenhed/special-forces-moede-23
DTSTART:20251108T090000Z
DTEND:20251108T110000Z
LOCATION:
END:VEVENT
BEGIN:VEVENT
UID:gruppeweb.dk:1406:event:2453
DTSTAMP:20260420T051042Z
LAST-MODIFIED:20251006T192124Z
SUMMARY:Special forces møde
DESCRIPTION:\n
URL:https://www.1helsingor.dk/begivenhed/special-forces-moede-24
DTSTART:20251025T080000Z
DTEND:20251025T100000Z
LOCATION:1. Helsingør Gruppe\, Stubbedamsvej 70C\, 3000 Helsingør
END:VEVENT
BEGIN:VEVENT
UID:gruppeweb.dk:1406:event:2454
DTSTAMP:20260420T051042Z
LAST-MODIFIED:20251115T124803Z
SUMMARY:Special forces (juletur)
DESCRIPTION:Juletur med Risengrød over bål og vandretur (5km)\n\nVi møde
 s  ved spejderhytten Colleruphus\, Høje sandbjergvej 11D\, 2840 Holte\n\
 n\n
URL:https://www.1helsingor.dk/begivenhed/special-forces-juletur
DTSTART:20251206T084500Z
DTEND:20251206T113000Z
LOCATION:Colleruphus\, Høje Sandbjergvej 11D\, 2840 Holte
END:VEVENT
BEGIN:VEVENT
UID:gruppeweb.dk:1406:event:2455
DTSTAMP:20260420T051042Z
LAST-MODIFIED:20251115T124802Z
SUMMARY:Special forces (Juleafslutning)
DESCRIPTION:\n
URL:https://www.1helsingor.dk/begivenhed/special-forces-juleafslutning
DTSTART:20251221T090000Z
DTEND:20251221T110000Z
LOCATION:Gurredam Spejdercenter\, Gurrevej 322\, 3000 Helsingør
END:VEVENT
BEGIN:VEVENT
UID:gruppeweb.dk:1406:event:2456
DTSTAMP:20260420T051042Z
LAST-MODIFIED:20251120T052317Z
SUMMARY:Special forces møde
DESCRIPTION:\n
URL:https://www.1helsingor.dk/begivenhed/special-forces-moede-25
DTSTART:20251122T090000Z
DTEND:20251122T110000Z
LOCATION:Gurredam Spejdercenter\, Gurrevej 322\, 3000 Helsingør
END:VEVENT
BEGIN:VEVENT
UID:gruppeweb.dk:1406:event:2606
DTSTAMP:20260420T051042Z
LAST-MODIFIED:20260317T144606Z
SUMMARY:special forces eftermiddagsmøde
DESCRIPTION:Vi mødes på gurredam sidst på eftermiddagen og hygger med b
 ål\, snobrød  \nog pølser.\n\n
URL:https://www.1helsingor.dk/begivenhed/special-forces-eftermiddagsmoede
DTSTART:20260327T150000Z
DTEND:20260327T180000Z
LOCATION:Gurredam Spejdercenter\, Gurrevej 322\, 3000 Helsingør
END:VEVENT
BEGIN:VEVENT
UID:gruppeweb.dk:1406:event:2607
DTSTAMP:20260420T051042Z
LAST-MODIFIED:20260220T134714Z
SUMMARY:Special forces møde
DESCRIPTION:\n
URL:https://www.1helsingor.dk/begivenhed/special-forces-moede-26
DTSTART:20260301T090000Z
DTEND:20260301T110000Z
LOCATION:Gurredam Spejdercenter\, Gurrevej 322\, 3000 Helsingør
END:VEVENT
BEGIN:VEVENT
UID:gruppeweb.dk:1406:event:2608
DTSTAMP:20260420T051042Z
LAST-MODIFIED:20260220T134715Z
SUMMARY:Special forces møde
DESCRIPTION:\n
URL:https://www.1helsingor.dk/begivenhed/special-forces-moede-27
DTSTART:20260315T090000Z
DTEND:20260315T110000Z
LOCATION:Gurredam Spejdercenter\, Gurrevej 322\, 3000 Helsingør
END:VEVENT
BEGIN:VEVENT
UID:gruppeweb.dk:1406:event:2626
DTSTAMP:20260420T051042Z
LAST-MODIFIED:20260416T175824Z
SUMMARY:Special Forces
DESCRIPTION:\n
URL:https://www.1helsingor.dk/begivenhed/special-forces-0
DTSTART:20260510T080000Z
DTEND:20260510T100000Z
LOCATION:1. Helsingør Gruppe\, Stubbedamsvej 70C\, 3000 Helsingør
END:VEVENT
BEGIN:VEVENT
UID:gruppeweb.dk:1406:event:2627
DTSTAMP:20260420T051042Z
LAST-MODIFIED:20260416T183918Z
SUMMARY:Special Forces
DESCRIPTION:\n
URL:https://www.1helsingor.dk/begivenhed/special-forces-1
DTSTART:20260620T120000Z
DTEND:20260622T080000Z
LOCATION:1. Helsingør Gruppe\, Stubbedamsvej 70C\, 3000 Helsingør
END:VEVENT
BEGIN:VEVENT
UID:gruppeweb.dk:1406:event:2628
DTSTAMP:20260420T051042Z
LAST-MODIFIED:20260416T183921Z
SUMMARY:Special Forces
DESCRIPTION:\n
URL:https://www.1helsingor.dk/begivenhed/special-forces-2
DTSTART:20260419T080000Z
DTEND:20260419T100000Z
LOCATION:1. Helsingør Gruppe\, Stubbedamsvej 70C\, 3000 Helsingør
END:VEVENT
BEGIN:VEVENT
UID:gruppeweb.dk:1406:event:2629
DTSTAMP:20260420T051042Z
LAST-MODIFIED:20260416T183923Z
SUMMARY:Special Forces
DESCRIPTION:\n
URL:https://www.1helsingor.dk/begivenhed/special-forces-3
DTSTART:20260524T080000Z
DTEND:20260524T100000Z
LOCATION:1. Helsingør Gruppe\, Stubbedamsvej 70C\, 3000 Helsingør
END:VEVENT
BEGIN:VEVENT
UID:gruppeweb.dk:1406:event:2630
DTSTAMP:20260420T051042Z
LAST-MODIFIED:20260416T183925Z
SUMMARY:Special Forces
DESCRIPTION:\n
URL:https://www.1helsingor.dk/begivenhed/special-forces-4
DTSTART:20260607T080000Z
DTEND:20260607T100000Z
LOCATION:1. Helsingør Gruppe\, Stubbedamsvej 70C\, 3000 Helsingør
END:VEVENT
END:VCALENDAR
